BEGIN:VCALENDAR
VERSION:2.0
METHOD:PUBLISH
CALSCALE:GREGORIAN
PRODID:-//Helios Calendar//EN
X-FROM-URL:https://theblueridgehighlander.com/calendar/index.php?eID=13275
X-WR-RELCALID:Highlander Calendar of Events Chimney Rock NC - Chimney Rock: Spring Photo Contest - Spring Trails 20230525T083000
X-WR-TIMEZONE:America/New_York
X-WR-CALNAME:Highlander Calendar of Events
BEGIN:VEVENT
URL;VALUE=URI:https://theblueridgehighlander.com/calendar/index.php?eID=13275
DTSTART:20230525T083000
DTEND:20230525T173000
SUMMARY:Chimney Rock NC - Chimney Rock: Spring Photo Contest - Spring Trails
DESCRIPTION:Spring Trails!Spring Photo Contest is UnderwayNC State Parks' Year of the Trail continues with a celebration of how our trails transform each spring. Bring your camera on your next excursion in the... For complete event details please visit:  https://theblueridgehighlander.com/calendar/?eID=13275\n______________________________\nEvent Downloaded Powered by Helios Calendar
LOCATION:Chimney Rock at Chimney Rock State Park - 174 Chimney Rock Park Road \, Chimney Rock\, NC USA 28720
CATEGORIES:Highlander Calendar of Events Events
PRIORITY:0
TRANSP:TRANSPARENT
END:VEVENT
END:VCALENDAR