BEGIN:VCALENDAR
VERSION:2.0
METHOD:PUBLISH
CALSCALE:GREGORIAN
PRODID:-//Helios Calendar//EN
X-FROM-URL:https://theblueridgehighlander.com/calendar/index.php?eID=13286
X-WR-RELCALID:Highlander Calendar of Events Hiawassee GA - Old Crow Medicine Show at Anderson Music Hall at Georgia Mtn Fairground 20230224T190000
X-WR-TIMEZONE:America/New_York
X-WR-CALNAME:Highlander Calendar of Events
BEGIN:VEVENT
URL;VALUE=URI:https://theblueridgehighlander.com/calendar/index.php?eID=13286
DTSTART:20230224T190000
DTEND:20230224T190000
SUMMARY:Hiawassee GA - Old Crow Medicine Show at Anderson Music Hall at Georgia Mtn Fairground
DESCRIPTION:Old Crow Medicine ShowOld Crow Medicine Show is bringing a great night of music to the Georgia Mountain Fairgrounds in Hiawassee\, Ga!On their whirlwind new album Paint This Town\, Old Crow Medicine... For complete event details please visit:  https://theblueridgehighlander.com/calendar/?eID=13286\n______________________________\nEvent Downloaded Powered by Helios Calendar
LOCATION:Georgia Mountain Fairgrounds - 1311 Music Hall Road \, Hiawassee\, GA USA 30546
CATEGORIES:Highlander Calendar of Events Events
PRIORITY:0
TRANSP:TRANSPARENT
END:VEVENT
END:VCALENDAR