BEGIN:VCALENDAR
VERSION:2.0
METHOD:PUBLISH
CALSCALE:GREGORIAN
PRODID:-//Helios Calendar//EN
X-FROM-URL:https://theblueridgehighlander.com/calendar/index.php?eID=13732
X-WR-RELCALID:Highlander Calendar of Events Blue Ridge GA - BRMAA - AIR 1st Qtr – Peyton Daughtry - January 14 – March 31st 20230215T100000
X-WR-TIMEZONE:America/New_York
X-WR-CALNAME:Highlander Calendar of Events
BEGIN:VEVENT
URL;VALUE=URI:https://theblueridgehighlander.com/calendar/index.php?eID=13732
DTSTART:20230215T100000
DTEND:20230215T180000
SUMMARY:Blue Ridge GA - BRMAA - AIR 1st Qtr – Peyton Daughtry - January 14 – March 31st
DESCRIPTION: Peyton Daughtry - AIR 1st QtrPeyton Daughtry brings us his unique and vibrant artwork for our 1st quarter Artist in Residence. Peyton's imagery and robotic-based artwork in a variety of media will... For complete event details please visit:  https://theblueridgehighlander.com/calendar/?eID=13732\n______________________________\nEvent Downloaded Powered by Helios Calendar
LOCATION:The Art Center - Blue Ridge Mtn Arts Association - 420 West Main Street \, Blue Ridge\, GA USA 30513
CATEGORIES:Highlander Calendar of Events Events
PRIORITY:0
TRANSP:TRANSPARENT
END:VEVENT
END:VCALENDAR