BEGIN:VCALENDAR
VERSION:2.0
METHOD:PUBLISH
CALSCALE:GREGORIAN
PRODID:-//Helios Calendar//EN
X-FROM-URL:https://theblueridgehighlander.com/calendar/index.php?eID=14051
X-WR-RELCALID:Highlander Calendar of Events Blue Ridge GA - 2023 SAAG National Juried Show at the Art Center 20231101T100000
X-WR-TIMEZONE:America/New_York
X-WR-CALNAME:Highlander Calendar of Events
BEGIN:VEVENT
URL;VALUE=URI:https://theblueridgehighlander.com/calendar/index.php?eID=14051
DTSTART:20231101T100000
DTEND:20231101T180000
SUMMARY:Blue Ridge GA - 2023 SAAG National Juried Show at the Art Center
DESCRIPTION:2023 SAAG National Juried ShowThe 2023 SAAG National Juried Show\, now in its 16th year\, is open to all artists of various 2D and 3D mediums. This juried show offers monetary prizes for Best of Show.... For complete event details please visit:  https://theblueridgehighlander.com/calendar/?eID=14051\n______________________________\nEvent Downloaded Powered by Helios Calendar
LOCATION:The Art Center - Blue Ridge Mtn Arts Association - 420 West Main Street \, Blue Ridge\, GA USA 30513
CATEGORIES:Highlander Calendar of Events Events
PRIORITY:0
TRANSP:TRANSPARENT
END:VEVENT
END:VCALENDAR