BEGIN:VCALENDAR
VERSION:2.0
METHOD:PUBLISH
CALSCALE:GREGORIAN
PRODID:-//Helios Calendar//EN
X-FROM-URL:https://theblueridgehighlander.com/calendar/index.php?eID=14118
X-WR-RELCALID:Highlander Calendar of Events Hiawassee GA - Georgia Mountain Fair 20230821T100000
X-WR-TIMEZONE:America/New_York
X-WR-CALNAME:Highlander Calendar of Events
BEGIN:VEVENT
URL;VALUE=URI:https://theblueridgehighlander.com/calendar/index.php?eID=14118
DTSTART:20230821T100000
DTEND:20230821T200000
SUMMARY:Hiawassee GA - Georgia Mountain Fair
DESCRIPTION: Georgia Mountain Fair With first class music performances\, arts & crafts\, fun carnival rides\, unique attractions and a glimpse into North Georgia's rich history and culture\, the Fair provides... For complete event details please visit:  https://theblueridgehighlander.com/calendar/?eID=14118\n______________________________\nEvent Downloaded Powered by Helios Calendar
LOCATION:Georgia Mountain Fairgrounds - 1311 Music Hall Road \, Hiawassee\, GA USA 30546
CATEGORIES:Highlander Calendar of Events Events
PRIORITY:0
TRANSP:TRANSPARENT
END:VEVENT
END:VCALENDAR