BEGIN:VCALENDAR
VERSION:2.0
METHOD:PUBLISH
CALSCALE:GREGORIAN
PRODID:-//Helios Calendar//EN
X-FROM-URL:https://theblueridgehighlander.com/calendar/index.php?eID=14127
X-WR-RELCALID:Highlander Calendar of Events Hiawassee GA - Hiawassee Pro Rodeo at Georgia Mountain Fairgrounds 20230902T180000
X-WR-TIMEZONE:America/New_York
X-WR-CALNAME:Highlander Calendar of Events
BEGIN:VEVENT
URL;VALUE=URI:https://theblueridgehighlander.com/calendar/index.php?eID=14127
DTSTART:20230902T180000
DTEND:20230902T180000
SUMMARY:Hiawassee GA - Hiawassee Pro Rodeo at Georgia Mountain Fairgrounds
DESCRIPTION:Hiawassee Pro RodeoIt's Rodeo Time! Come out to the Fairgrounds for great family fun with bucking horses\, bulls\, world class contestants!Enjoy the best bucking horses\, bulls\, world class contestants... For complete event details please visit:  https://theblueridgehighlander.com/calendar/?eID=14127\n______________________________\nEvent Downloaded Powered by Helios Calendar
LOCATION:Georgia Mountain Fairgrounds - 1311 Music Hall Road \, Hiawassee\, GA USA 30546
CATEGORIES:Highlander Calendar of Events Events
PRIORITY:0
TRANSP:TRANSPARENT
END:VEVENT
END:VCALENDAR