BEGIN:VCALENDAR
VERSION:2.0
METHOD:PUBLISH
CALSCALE:GREGORIAN
PRODID:-//Helios Calendar//EN
X-FROM-URL:https://theblueridgehighlander.com/calendar/index.php?eID=14174
X-WR-RELCALID:Highlander Calendar of Events Chimney Rock NC - Spring Homeschool Day 20230510T093000
X-WR-TIMEZONE:America/New_York
X-WR-CALNAME:Highlander Calendar of Events
BEGIN:VEVENT
URL;VALUE=URI:https://theblueridgehighlander.com/calendar/index.php?eID=14174
DTSTART:20230510T093000
DTEND:20230511T003000
SUMMARY:Chimney Rock NC - Spring Homeschool Day
DESCRIPTION: Spring Homeschool Day Chimney Rock's Spring Homeschool Day is the perfect way to shake off the winter cobwebs and enjoy the beauty of spring! Join our education team for programs created to engage... For complete event details please visit:  https://theblueridgehighlander.com/calendar/?eID=14174\n______________________________\nEvent Downloaded Powered by Helios Calendar
LOCATION:Chimney Rock at Chimney Rock State Park - 174 Chimney Rock Park Road \, Chimney Rock\, NC USA 28720
CATEGORIES:Highlander Calendar of Events Events
PRIORITY:0
TRANSP:TRANSPARENT
END:VEVENT
END:VCALENDAR