BEGIN:VCALENDAR
VERSION:2.0
METHOD:PUBLISH
CALSCALE:GREGORIAN
PRODID:-//Helios Calendar//EN
X-FROM-URL:https://theblueridgehighlander.com/calendar/index.php?eID=14223
X-WR-RELCALID:Highlander Calendar of Events Chimney Rock NC - Summer Animal Encounters 20230803T140000
X-WR-TIMEZONE:America/New_York
X-WR-CALNAME:Highlander Calendar of Events
BEGIN:VEVENT
URL;VALUE=URI:https://theblueridgehighlander.com/calendar/index.php?eID=14223
DTSTART:20230803T140000
DTEND:20230803T140000
SUMMARY:Chimney Rock NC - Summer Animal Encounters
DESCRIPTION: Summer Animal EncountersDid you know our staff had a wild side? Join a Park naturalist to meet some of our live Animal Ambassadors and learn what kind of wildlife inhabits the Park and their important... For complete event details please visit:  https://theblueridgehighlander.com/calendar/?eID=14223\n______________________________\nEvent Downloaded Powered by Helios Calendar
LOCATION:Chimney Rock at Chimney Rock State Park - 174 Chimney Rock Park Road \, Chimney Rock\, NC USA 28720
CATEGORIES:Highlander Calendar of Events Events
PRIORITY:0
TRANSP:TRANSPARENT
END:VEVENT
END:VCALENDAR