BEGIN:VCALENDAR
VERSION:2.0
METHOD:PUBLISH
CALSCALE:GREGORIAN
PRODID:-//Helios Calendar//EN
X-FROM-URL:https://theblueridgehighlander.com/calendar/index.php?eID=14246
X-WR-RELCALID:Highlander Calendar of Events Chimney Rock NC - Juneteenth Story Walk 20230614T120000
X-WR-TIMEZONE:America/New_York
X-WR-CALNAME:Highlander Calendar of Events
BEGIN:VEVENT
URL;VALUE=URI:https://theblueridgehighlander.com/calendar/index.php?eID=14246
DTSTART:20230614T120000
DTEND:20230614T120000
SUMMARY:Chimney Rock NC - Juneteenth Story Walk
DESCRIPTION: Juneteenth Story WalkNC State Parks is celebrating Juneteenth. Throughout the week\, explore our Juneteenth Story Walk on the Great Woodland Adventure trail to learn more about this national holiday... For complete event details please visit:  https://theblueridgehighlander.com/calendar/?eID=14246\n______________________________\nEvent Downloaded Powered by Helios Calendar
LOCATION:Chimney Rock at Chimney Rock State Park - 174 Chimney Rock Park Road \, Chimney Rock\, NC USA 28720
CATEGORIES:Highlander Calendar of Events Events
PRIORITY:0
TRANSP:TRANSPARENT
END:VEVENT
END:VCALENDAR