BEGIN:VCALENDAR
VERSION:2.0
METHOD:PUBLISH
CALSCALE:GREGORIAN
PRODID:-//Helios Calendar//EN
X-FROM-URL:https://theblueridgehighlander.com/calendar/index.php?eID=14259
X-WR-RELCALID:Highlander Calendar of Events Chimney Rock NC - Chimney Rock: Summer Photo Contest - Summer Trails 20230706T000000
X-WR-TIMEZONE:America/New_York
X-WR-CALNAME:Highlander Calendar of Events
BEGIN:VEVENT
URL;VALUE=URI:https://theblueridgehighlander.com/calendar/index.php?eID=14259
DTSTART:20230706T000000
DTEND:20230706T235900
SUMMARY:Chimney Rock NC - Chimney Rock: Summer Photo Contest - Summer Trails
DESCRIPTION:Summer TrailsSummer Photo ContestSummer is the busiest hiking season of the year\, and we're continuing our celebration of NC State Parks' Year of the Trail accordingly. Send us your best shots from... For complete event details please visit:  https://theblueridgehighlander.com/calendar/?eID=14259\n______________________________\nEvent Downloaded Powered by Helios Calendar
LOCATION:Chimney Rock at Chimney Rock State Park - 174 Chimney Rock Park Road \, Chimney Rock\, NC USA 28720
CATEGORIES:Highlander Calendar of Events Events
PRIORITY:0
TRANSP:TRANSPARENT
END:VEVENT
END:VCALENDAR