BEGIN:VCALENDAR
VERSION:2.0
METHOD:PUBLISH
CALSCALE:GREGORIAN
PRODID:-//Helios Calendar//EN
X-FROM-URL:https://theblueridgehighlander.com/calendar/index.php?eID=14319
X-WR-RELCALID:Highlander Calendar of Events Chimney Rock - Passholder Experience: Summer Sensory Hike 20230809T090000
X-WR-TIMEZONE:America/New_York
X-WR-CALNAME:Highlander Calendar of Events
BEGIN:VEVENT
URL;VALUE=URI:https://theblueridgehighlander.com/calendar/index.php?eID=14319
DTSTART:20230809T090000
DTEND:20230809T110000
SUMMARY:Chimney Rock - Passholder Experience: Summer Sensory Hike
DESCRIPTION:Passholder Experience: Summer Sensory HikeAwaken your senses to the natural world on this unique hike. There's always a lot to see in the forest\, but what do you hear? What do you smell? What do you... For complete event details please visit:  https://theblueridgehighlander.com/calendar/?eID=14319\n______________________________\nEvent Downloaded Powered by Helios Calendar
LOCATION:Chimney Rock at Chimney Rock State Park - 174 Chimney Rock Park Road \, Chimney Rock\, NC USA 28720
CATEGORIES:Highlander Calendar of Events Events
PRIORITY:0
TRANSP:TRANSPARENT
END:VEVENT
END:VCALENDAR