BEGIN:VCALENDAR
VERSION:2.0
METHOD:PUBLISH
CALSCALE:GREGORIAN
PRODID:-//Helios Calendar//EN
X-FROM-URL:https://theblueridgehighlander.com/calendar/index.php?eID=14363
X-WR-RELCALID:Highlander Calendar of Events Chimney Rock NC - Fall Photo Contest: 'Autumn Trails' 20231108T000000
X-WR-TIMEZONE:America/New_York
X-WR-CALNAME:Highlander Calendar of Events
BEGIN:VEVENT
URL;VALUE=URI:https://theblueridgehighlander.com/calendar/index.php?eID=14363
DTSTART:20231108T000000
DTEND:20231108T120000
SUMMARY:Chimney Rock NC - Fall Photo Contest: 'Autumn Trails'
DESCRIPTION: Fall Photo Contest: "Autumn Trails"October 15 - November 15The trails come alive in fall as the trees transform and leaves blanket the paths. This contest will round out our celebration of NC State... For complete event details please visit:  https://theblueridgehighlander.com/calendar/?eID=14363\n______________________________\nEvent Downloaded Powered by Helios Calendar
LOCATION:Chimney Rock at Chimney Rock State Park - 174 Chimney Rock Park Road \, Chimney Rock\, NC USA 28720
CATEGORIES:Highlander Calendar of Events Events
PRIORITY:0
TRANSP:TRANSPARENT
END:VEVENT
END:VCALENDAR