BEGIN:VCALENDAR
VERSION:2.0
METHOD:PUBLISH
CALSCALE:GREGORIAN
PRODID:-//Helios Calendar//EN
X-FROM-URL:https://theblueridgehighlander.com/calendar/index.php?eID=14440
X-WR-RELCALID:Highlander Calendar of Events Brasstown NC - Highlander Gallery on the NE Georgia Art Gallery Tour 20230610T100000
X-WR-TIMEZONE:America/New_York
X-WR-CALNAME:Highlander Calendar of Events
BEGIN:VEVENT
URL;VALUE=URI:https://theblueridgehighlander.com/calendar/index.php?eID=14440
DTSTART:20230610T100000
DTEND:20230610T170000
SUMMARY:Brasstown NC - Highlander Gallery on the NE Georgia Art Gallery Tour
DESCRIPTION:Stop by Highlander Gallery during the NE Georgia Art Gallery Tourand see Billy Reynolds and the Highlander carve...Brasstown is just 10 minutes from the GA - NC state line...step over into NC... For complete event details please visit:  https://theblueridgehighlander.com/calendar/?eID=14440\n______________________________\nEvent Downloaded Powered by Helios Calendar
LOCATION:Highlander Gallery Brasstown North Carolina - 10079 Old Hwy 64 \, Brasstown\, NC US 28906
CATEGORIES:Highlander Calendar of Events Events
PRIORITY:0
TRANSP:TRANSPARENT
END:VEVENT
END:VCALENDAR