BEGIN:VCALENDAR
VERSION:2.0
METHOD:PUBLISH
CALSCALE:GREGORIAN
PRODID:-//Helios Calendar//EN
X-FROM-URL:https://theblueridgehighlander.com/calendar/index.php?eID=14525
X-WR-RELCALID:Highlander Calendar of Events Hiawassee GA - Halloween at the Georgia Mountain Fairgrounds 20231031T170000
X-WR-TIMEZONE:America/New_York
X-WR-CALNAME:Highlander Calendar of Events
BEGIN:VEVENT
URL;VALUE=URI:https://theblueridgehighlander.com/calendar/index.php?eID=14525
DTSTART:20231031T170000
DTEND:20231031T210000
SUMMARY:Hiawassee GA - Halloween at the Georgia Mountain Fairgrounds
DESCRIPTION:Halloween at the FairgroundsTuesday\, October 31st5pm-9pmFree AdmissionJoin the City of Hiawassee for Trick or Treating fun at the Georgia Mountain Fairgrounds! Bring your little ghosts & goblins... For complete event details please visit:  https://theblueridgehighlander.com/calendar/?eID=14525\n______________________________\nEvent Downloaded Powered by Helios Calendar
LOCATION:Georgia Mountain Fairgrounds - 1311 Music Hall Road \, Hiawassee\, GA USA 30546
CATEGORIES:Highlander Calendar of Events Events
PRIORITY:0
TRANSP:TRANSPARENT
END:VEVENT
END:VCALENDAR