BEGIN:VCALENDAR
VERSION:2.0
METHOD:PUBLISH
CALSCALE:GREGORIAN
PRODID:-//Helios Calendar//EN
X-FROM-URL:https://theblueridgehighlander.com/calendar/index.php?eID=14530
X-WR-RELCALID:Highlander Calendar of Events Young Harris GA - North Georgia Chamber Symphony/Young Harris Chorus Fall Concert 20231022T150000
X-WR-TIMEZONE:America/New_York
X-WR-CALNAME:Highlander Calendar of Events
BEGIN:VEVENT
URL;VALUE=URI:https://theblueridgehighlander.com/calendar/index.php?eID=14530
DTSTART:20231022T150000
DTEND:20231022T163000
SUMMARY:Young Harris GA - North Georgia Chamber Symphony/Young Harris Chorus Fall Concert
DESCRIPTION:The will be in concert with the Young Harris Faculty wind players and chorus (52 beautiful voices) in the performance of Mozart’s Mass in C Major\, K. 317 “Coronation Mass” and... For complete event details please visit:  https://theblueridgehighlander.com/calendar/?eID=14530\n______________________________\nEvent Downloaded Powered by Helios Calendar
LOCATION:Clegg Auditiorium\, Young Harris College - 1 College Street \, Young Harris\, GA United States 30582
CATEGORIES:Highlander Calendar of Events Events
PRIORITY:0
TRANSP:TRANSPARENT
END:VEVENT
END:VCALENDAR