BEGIN:VCALENDAR
VERSION:2.0
METHOD:PUBLISH
CALSCALE:GREGORIAN
PRODID:-//Helios Calendar//EN
X-FROM-URL:https://theblueridgehighlander.com/calendar/index.php?eID=14593
X-WR-RELCALID:Highlander Calendar of Events Chimney Rock NC - Passholder Experience: Behind the Elevator 20240110T090000
X-WR-TIMEZONE:America/New_York
X-WR-CALNAME:Highlander Calendar of Events
BEGIN:VEVENT
URL;VALUE=URI:https://theblueridgehighlander.com/calendar/index.php?eID=14593
DTSTART:20240110T090000
DTEND:20240110T110000
SUMMARY:Chimney Rock NC - Passholder Experience: Behind the Elevator
DESCRIPTION:Passholder Experience: Behind the ElevatorHave you ever wondered what goes on behind the scenes of Chimney Rock’s iconic elevator? Join a staff expert on this exclusive tour of the mechanics... For complete event details please visit:  https://theblueridgehighlander.com/calendar/?eID=14593\n______________________________\nEvent Downloaded Powered by Helios Calendar
LOCATION:Chimney Rock at Chimney Rock State Park - 174 Chimney Rock Park Road \, Chimney Rock\, NC USA 28720
CATEGORIES:Highlander Calendar of Events Events
PRIORITY:0
TRANSP:TRANSPARENT
END:VEVENT
END:VCALENDAR