BEGIN:VCALENDAR
VERSION:2.0
METHOD:PUBLISH
CALSCALE:GREGORIAN
PRODID:-//Helios Calendar//EN
X-FROM-URL:https://theblueridgehighlander.com/calendar/index.php?eID=14595
X-WR-RELCALID:Highlander Calendar of Events Chimney Rock NC - Naturalist Niche: Winter Love Birds 20240210T090000
X-WR-TIMEZONE:America/New_York
X-WR-CALNAME:Highlander Calendar of Events
BEGIN:VEVENT
URL;VALUE=URI:https://theblueridgehighlander.com/calendar/index.php?eID=14595
DTSTART:20240210T090000
DTEND:20240210T110000
SUMMARY:Chimney Rock NC - Naturalist Niche: Winter Love Birds
DESCRIPTION:Naturalist Niche: Winter BirdingLove is in the air\, and Chimney Rock is no exception. Grab someone special (or just your binoculars) and join us for a late winter birding hike where you’ll... For complete event details please visit:  https://theblueridgehighlander.com/calendar/?eID=14595\n______________________________\nEvent Downloaded Powered by Helios Calendar
LOCATION:Chimney Rock at Chimney Rock State Park - 174 Chimney Rock Park Road \, Chimney Rock\, NC USA 28720
CATEGORIES:Highlander Calendar of Events Events
PRIORITY:0
TRANSP:TRANSPARENT
END:VEVENT
END:VCALENDAR