BEGIN:VCALENDAR
VERSION:2.0
METHOD:PUBLISH
CALSCALE:GREGORIAN
PRODID:-//Helios Calendar//EN
X-FROM-URL:https://theblueridgehighlander.com/calendar/index.php?eID=14667
X-WR-RELCALID:Highlander Calendar of Events Hiawassee GA - 73rd Georgia Mountain Fair 20240816T100000
X-WR-TIMEZONE:America/New_York
X-WR-CALNAME:Highlander Calendar of Events
BEGIN:VEVENT
URL;VALUE=URI:https://theblueridgehighlander.com/calendar/index.php?eID=14667
DTSTART:20240816T100000
DTEND:20240816T200000
SUMMARY:Hiawassee GA - 73rd Georgia Mountain Fair
DESCRIPTION: Georgia Mountain Fair Look forward to TWO GREAT WEEKENDS at the 73rd Annual Georgia Mountain Fair\, held at the historic Georgia Mountain Fairgrounds this summer! Thousands... For complete event details please visit:  https://theblueridgehighlander.com/calendar/?eID=14667\n______________________________\nEvent Downloaded Powered by Helios Calendar
LOCATION:Georgia Mountain Fairgrounds - 1311 Music Hall Road \, Hiawassee\, GA USA 30546
CATEGORIES:Highlander Calendar of Events Events
PRIORITY:0
TRANSP:TRANSPARENT
END:VEVENT
END:VCALENDAR