BEGIN:VCALENDAR
VERSION:2.0
METHOD:PUBLISH
CALSCALE:GREGORIAN
PRODID:-//Helios Calendar//EN
X-FROM-URL:https://theblueridgehighlander.com/calendar/index.php?eID=14722
X-WR-RELCALID:Highlander Calendar of Events Hiawassee GA - American Made Music Festival at Georgia Mountain Fairgrounds 20241005T123000
X-WR-TIMEZONE:America/New_York
X-WR-CALNAME:Highlander Calendar of Events
BEGIN:VEVENT
URL;VALUE=URI:https://theblueridgehighlander.com/calendar/index.php?eID=14722
DTSTART:20241005T123000
DTEND:20241005T213000
SUMMARY:Hiawassee GA - American Made Music Festival at Georgia Mountain Fairgrounds
DESCRIPTION:Dailey & Vincent's American Made Music FestSeptember 19-21\, 2024Dailey & Vincent's American Made Music Fest\, presented by Springer Mountain Farms\, is a 3-day festival bringing together... For complete event details please visit:  https://theblueridgehighlander.com/calendar/?eID=14722\n______________________________\nEvent Downloaded Powered by Helios Calendar
LOCATION:Georgia Mountain Fairgrounds - 1311 Music Hall Road \, Hiawassee\, GA USA 30546
CATEGORIES:Highlander Calendar of Events Events
PRIORITY:0
TRANSP:TRANSPARENT
END:VEVENT
END:VCALENDAR