BEGIN:VCALENDAR
VERSION:2.0
METHOD:PUBLISH
CALSCALE:GREGORIAN
PRODID:-//Helios Calendar//EN
X-FROM-URL:https://theblueridgehighlander.com/calendar/index.php?eID=14806
X-WR-RELCALID:Highlander Calendar of Events Hiawassee GA - The Concerts in Eller Holler at Georgia Mountain Fairgrounds 20240509T180000
X-WR-TIMEZONE:America/New_York
X-WR-CALNAME:Highlander Calendar of Events
BEGIN:VEVENT
URL;VALUE=URI:https://theblueridgehighlander.com/calendar/index.php?eID=14806
DTSTART:20240509T180000
DTEND:20240509T210000
SUMMARY:Hiawassee GA - The Concerts in Eller Holler at Georgia Mountain Fairgrounds
DESCRIPTION:The Concerts at Eller HollerEnjoy an evening in Eller Holler at the Georgia Mountain Fairgrounds for a Spring Sunset Series! There will be craft vendors\, food court\, & talented musicians.Top... For complete event details please visit:  https://theblueridgehighlander.com/calendar/?eID=14806\n______________________________\nEvent Downloaded Powered by Helios Calendar
LOCATION:Georgia Mountain Fairgrounds - 1311 Music Hall Road \, Hiawassee\, GA USA 30546
CATEGORIES:Highlander Calendar of Events Events
PRIORITY:0
TRANSP:TRANSPARENT
END:VEVENT
END:VCALENDAR