BEGIN:VCALENDAR
VERSION:2.0
METHOD:PUBLISH
CALSCALE:GREGORIAN
PRODID:-//Helios Calendar//EN
X-FROM-URL:https://theblueridgehighlander.com/calendar/index.php?eID=14941
X-WR-RELCALID:Highlander Calendar of Events Blue Ridge GA - BRMAA Cork & Canvas 20240302T190000
X-WR-TIMEZONE:America/New_York
X-WR-CALNAME:Highlander Calendar of Events
BEGIN:VEVENT
URL;VALUE=URI:https://theblueridgehighlander.com/calendar/index.php?eID=14941
DTSTART:20240302T190000
DTEND:20240302T210000
SUMMARY:Blue Ridge GA - BRMAA Cork & Canvas
DESCRIPTION:BRMAA Cork & CanvasTicket prices are $40 ($35 for BRMAA members) and each event admission ticket includes free samplings from our local area vintners and pouring partners\, commemorative BRMAA... For complete event details please visit:  https://theblueridgehighlander.com/calendar/?eID=14941\n______________________________\nEvent Downloaded Powered by Helios Calendar
LOCATION:The Art Center - Blue Ridge Mtn Arts Association - 420 West Main Street \, Blue Ridge\, GA USA 30513
CATEGORIES:Highlander Calendar of Events Events
PRIORITY:0
TRANSP:TRANSPARENT
END:VEVENT
END:VCALENDAR