BEGIN:VCALENDAR
VERSION:2.0
METHOD:PUBLISH
CALSCALE:GREGORIAN
PRODID:-//Helios Calendar//EN
X-FROM-URL:https://theblueridgehighlander.com/calendar/index.php?eID=15044
X-WR-RELCALID:Highlander Calendar of Events Chimney Rock NC - Naturalist Niche: Marvelous Mycology 20240318T110000
X-WR-TIMEZONE:America/New_York
X-WR-CALNAME:Highlander Calendar of Events
BEGIN:VEVENT
URL;VALUE=URI:https://theblueridgehighlander.com/calendar/index.php?eID=15044
DTSTART:20240318T110000
DTEND:20240318T120000
SUMMARY:Chimney Rock NC - Naturalist Niche: Marvelous Mycology
DESCRIPTION:Naturalist Niche: Hike with a NaturalistWatch the park come to life week by week on these guided hikes with a naturalist. Join one of our trail guides every Monday in March for a moderate... For complete event details please visit:  https://theblueridgehighlander.com/calendar/?eID=15044\n______________________________\nEvent Downloaded Powered by Helios Calendar
LOCATION:Chimney Rock at Chimney Rock State Park - 174 Chimney Rock Park Road \, Chimney Rock\, NC USA 28720
CATEGORIES:Highlander Calendar of Events Events
PRIORITY:0
TRANSP:TRANSPARENT
END:VEVENT
END:VCALENDAR