BEGIN:VCALENDAR
VERSION:2.0
METHOD:PUBLISH
CALSCALE:GREGORIAN
PRODID:-//Helios Calendar//EN
X-FROM-URL:https://theblueridgehighlander.com/calendar/index.php?eID=15050
X-WR-RELCALID:Highlander Calendar of Events Chimney Rock NC - Chimney Rock: Spring Photo Contest - Spring Inspirations 20240402T083000
X-WR-TIMEZONE:America/New_York
X-WR-CALNAME:Highlander Calendar of Events
BEGIN:VEVENT
URL;VALUE=URI:https://theblueridgehighlander.com/calendar/index.php?eID=15050
DTSTART:20240402T083000
DTEND:20240402T173000
SUMMARY:Chimney Rock NC - Chimney Rock: Spring Photo Contest - Spring Inspirations
DESCRIPTION:Spring Inspiration!Spring Photo Contest is UnderwayThe park is full of spring blooms and signs of the season to come. Break out your cameras and share your best snapshots of whatever spring... For complete event details please visit:  https://theblueridgehighlander.com/calendar/?eID=15050\n______________________________\nEvent Downloaded Powered by Helios Calendar
LOCATION:Chimney Rock at Chimney Rock State Park - 174 Chimney Rock Park Road \, Chimney Rock\, NC USA 28720
CATEGORIES:Highlander Calendar of Events Events
PRIORITY:0
TRANSP:TRANSPARENT
END:VEVENT
END:VCALENDAR