BEGIN:VCALENDAR
VERSION:2.0
METHOD:PUBLISH
CALSCALE:GREGORIAN
PRODID:-//Helios Calendar//EN
X-FROM-URL:https://theblueridgehighlander.com/calendar/index.php?eID=15116
X-WR-RELCALID:Highlander Calendar of Events Chimney Rock NC - Passholder Experience - Spring Hike with a Naturalist 20240417T090000
X-WR-TIMEZONE:America/New_York
X-WR-CALNAME:Highlander Calendar of Events
BEGIN:VEVENT
URL;VALUE=URI:https://theblueridgehighlander.com/calendar/index.php?eID=15116
DTSTART:20240417T090000
DTEND:20240417T110000
SUMMARY:Chimney Rock NC - Passholder Experience - Spring Hike with a Naturalist
DESCRIPTION: Passholder Experience - Spring Hike with a NaturalistEnjoy this intimate\, weekday hike with your fellow annual passholders. A naturalist will lead this moderate hike and share what makes... For complete event details please visit:  https://theblueridgehighlander.com/calendar/?eID=15116\n______________________________\nEvent Downloaded Powered by Helios Calendar
LOCATION:Chimney Rock at Chimney Rock State Park - 174 Chimney Rock Park Road \, Chimney Rock\, NC USA 28720
CATEGORIES:Highlander Calendar of Events Events
PRIORITY:0
TRANSP:TRANSPARENT
END:VEVENT
END:VCALENDAR