BEGIN:VCALENDAR
VERSION:2.0
METHOD:PUBLISH
CALSCALE:GREGORIAN
PRODID:-//Helios Calendar//EN
X-FROM-URL:https://theblueridgehighlander.com/calendar/index.php?eID=15324
X-WR-RELCALID:Highlander Calendar of Events Hiawassee GA - American Pop featuring The Grass Roots, The Buckinghams, and The Box Tops Live at Anderson Music Hall at Georgia Mtn Fairground  20240822T190000
X-WR-TIMEZONE:America/New_York
X-WR-CALNAME:Highlander Calendar of Events
BEGIN:VEVENT
URL;VALUE=URI:https://theblueridgehighlander.com/calendar/index.php?eID=15324
DTSTART:20240822T190000
DTEND:20240822T190000
SUMMARY:Hiawassee GA - American Pop featuring The Grass Roots\, The Buckinghams\, and The Box Tops Live at Anderson Music Hall at Georgia Mtn Fairground 
DESCRIPTION:American Pop featuring The Grass Roots\, The Buckinghams\, and The Box TopsLive at Anderson Music Hall at Georgia Mtn FairgroundThursday\, August 22\, 2024 - 7pmAdmission: $35 + HandlingTicket... For complete event details please visit:  https://theblueridgehighlander.com/calendar/?eID=15324\n______________________________\nEvent Downloaded Powered by Helios Calendar
LOCATION:Georgia Mountain Fairgrounds - 1311 Music Hall Road \, Hiawassee\, GA USA 30546
CATEGORIES:Highlander Calendar of Events Events
PRIORITY:0
TRANSP:TRANSPARENT
END:VEVENT
END:VCALENDAR