BEGIN:VCALENDAR
VERSION:2.0
METHOD:PUBLISH
CALSCALE:GREGORIAN
PRODID:-//Helios Calendar//EN
X-FROM-URL:https://theblueridgehighlander.com/calendar/index.php?eID=15345
X-WR-RELCALID:Highlander Calendar of Events Hiawassee GA - The Inspirations, The Martins, & The Perrys Live at Anderson Music Hall at Georgia Mtn Fairground  20240818T140000
X-WR-TIMEZONE:America/New_York
X-WR-CALNAME:Highlander Calendar of Events
BEGIN:VEVENT
URL;VALUE=URI:https://theblueridgehighlander.com/calendar/index.php?eID=15345
DTSTART:20240818T140000
DTEND:20240818T140000
SUMMARY:Hiawassee GA - The Inspirations\, The Martins\, & The Perrys Live at Anderson Music Hall at Georgia Mtn Fairground 
DESCRIPTION:The Inspirations\, The Martins\, & The Perrys Live at Anderson Music Hall at Georgia Mtn FairgroundThe Inspirations: Martin Cook\, a former piano player for the Kingsmen and a chemistry... For complete event details please visit:  https://theblueridgehighlander.com/calendar/?eID=15345\n______________________________\nEvent Downloaded Powered by Helios Calendar
LOCATION:Georgia Mountain Fairgrounds - 1311 Music Hall Road \, Hiawassee\, GA USA 30546
CATEGORIES:Highlander Calendar of Events Events
PRIORITY:0
TRANSP:TRANSPARENT
END:VEVENT
END:VCALENDAR