BEGIN:VCALENDAR
VERSION:2.0
METHOD:PUBLISH
CALSCALE:GREGORIAN
PRODID:-//Helios Calendar//EN
X-FROM-URL:https://theblueridgehighlander.com/calendar/index.php?eID=15919
X-WR-RELCALID:Highlander Calendar of Events Hiawassee GA - All Nashville Roadshow 20250411T173000
X-WR-TIMEZONE:America/New_York
X-WR-CALNAME:Highlander Calendar of Events
BEGIN:VEVENT
URL;VALUE=URI:https://theblueridgehighlander.com/calendar/index.php?eID=15919
DTSTART:20250411T173000
DTEND:20250411T173000
SUMMARY:Hiawassee GA - All Nashville Roadshow
DESCRIPTION:All Nashville RoadshowFriday\, April 11\, 20255:30pm - 10:00pmTickets are sold by seating zone. Within each zone\, seating is general admission. Every ticket includes a complimentary lawn... For complete event details please visit:  https://theblueridgehighlander.com/calendar/?eID=15919\n______________________________\nEvent Downloaded Powered by Helios Calendar
LOCATION:Georgia Mountain Fairgrounds - 1311 Music Hall Road \, Hiawassee\, GA USA 30546
CATEGORIES:Highlander Calendar of Events Events
PRIORITY:0
TRANSP:TRANSPARENT
END:VEVENT
END:VCALENDAR