BEGIN:VCALENDAR
VERSION:2.0
METHOD:PUBLISH
CALSCALE:GREGORIAN
PRODID:-//Helios Calendar//EN
X-FROM-URL:https://theblueridgehighlander.com/calendar/index.php?eID=15955
X-WR-RELCALID:Highlander Calendar of Events Hiawassee GA - Run for the Rhodos 5k 20250426T080000
X-WR-TIMEZONE:America/New_York
X-WR-CALNAME:Highlander Calendar of Events
BEGIN:VEVENT
URL;VALUE=URI:https://theblueridgehighlander.com/calendar/index.php?eID=15955
DTSTART:20250426T080000
DTEND:20250426T080000
SUMMARY:Hiawassee GA - Run for the Rhodos 5k
DESCRIPTION:Run for the Rhodos 5kSaturday\, April 26th - 8amPrice: $35.00 Race Fee + $3.10 SignUp FeeRegistration: Price increases to $40.00 after March 28\, 2025 at 11:59pm EDTRun for the... For complete event details please visit:  https://theblueridgehighlander.com/calendar/?eID=15955\n______________________________\nEvent Downloaded Powered by Helios Calendar
LOCATION:Georgia Mountain Fairgrounds - 1311 Music Hall Road \, Hiawassee\, GA USA 30546
CATEGORIES:Highlander Calendar of Events Events
PRIORITY:0
TRANSP:TRANSPARENT
END:VEVENT
END:VCALENDAR