BEGIN:VCALENDAR
VERSION:2.0
METHOD:PUBLISH
CALSCALE:GREGORIAN
PRODID:-//Helios Calendar//EN
X-FROM-URL:https://theblueridgehighlander.com/calendar/index.php?eID=15969
X-WR-RELCALID:Highlander Calendar of Events Hiawassee GA - Georgia Mountain Scottish Festival & Highland Games 20250607T090000
X-WR-TIMEZONE:America/New_York
X-WR-CALNAME:Highlander Calendar of Events
BEGIN:VEVENT
URL;VALUE=URI:https://theblueridgehighlander.com/calendar/index.php?eID=15969
DTSTART:20250607T090000
DTEND:20250607T170000
SUMMARY:Hiawassee GA - Georgia Mountain Scottish Festival & Highland Games
DESCRIPTION:Georgia Mountain Scottish Festival & Highland GamesJune 7 & 8\, 20259am-5pmAdmission:Saturday\, $20 per personSunday\, $10 per personBOTH days $25   $15 per person for groups of... For complete event details please visit:  https://theblueridgehighlander.com/calendar/?eID=15969\n______________________________\nEvent Downloaded Powered by Helios Calendar
LOCATION:Georgia Mountain Fairgrounds - 1311 Music Hall Road \, Hiawassee\, GA USA 30546
CATEGORIES:Highlander Calendar of Events Events
PRIORITY:0
TRANSP:TRANSPARENT
END:VEVENT
END:VCALENDAR