BEGIN:VCALENDAR
VERSION:2.0
METHOD:PUBLISH
CALSCALE:GREGORIAN
PRODID:-//Helios Calendar//EN
X-FROM-URL:https://theblueridgehighlander.com/calendar/index.php?eID=15987
X-WR-RELCALID:Highlander Calendar of Events Hiawassee GA - 75th Annual Georgia Mountain Fair 20250815T110000
X-WR-TIMEZONE:America/New_York
X-WR-CALNAME:Highlander Calendar of Events
BEGIN:VEVENT
URL;VALUE=URI:https://theblueridgehighlander.com/calendar/index.php?eID=15987
DTSTART:20250815T110000
DTEND:20250815T190000
SUMMARY:Hiawassee GA - 75th Annual Georgia Mountain Fair
DESCRIPTION:75th Annual Georgia Mountain FairAugust 15-17 & 21-23Carnival open daily August 15-23!Fair Admission - $7 admission includes access to the grounds including the carnival area\, special entertainment... For complete event details please visit:  https://theblueridgehighlander.com/calendar/?eID=15987\n______________________________\nEvent Downloaded Powered by Helios Calendar
LOCATION:Georgia Mountain Fairgrounds - 1311 Music Hall Road \, Hiawassee\, GA USA 30546
CATEGORIES:Highlander Calendar of Events Events
PRIORITY:0
TRANSP:TRANSPARENT
END:VEVENT
END:VCALENDAR