BEGIN:VCALENDAR
VERSION:2.0
METHOD:PUBLISH
CALSCALE:GREGORIAN
PRODID:-//Helios Calendar//EN
X-FROM-URL:https://theblueridgehighlander.com/calendar/index.php?eID=15999
X-WR-RELCALID:Highlander Calendar of Events Hiawassee GA - Gene Watson & The Bellamy Brothers in Concert 20250821T190000
X-WR-TIMEZONE:America/New_York
X-WR-CALNAME:Highlander Calendar of Events
BEGIN:VEVENT
URL;VALUE=URI:https://theblueridgehighlander.com/calendar/index.php?eID=15999
DTSTART:20250821T190000
DTEND:20250821T190000
SUMMARY:Hiawassee GA - Gene Watson & The Bellamy Brothers in Concert
DESCRIPTION:Gene Watson & Bellamy BrothersThursday\, August 21\, 20257pmAdmission: $30 + handlingTicket includes free Fair admission!Clear Bag policy strictly enforced.From his chart-topping soulful gospel... For complete event details please visit:  https://theblueridgehighlander.com/calendar/?eID=15999\n______________________________\nEvent Downloaded Powered by Helios Calendar
LOCATION:Georgia Mountain Fairgrounds - 1311 Music Hall Road \, Hiawassee\, GA USA 30546
CATEGORIES:Highlander Calendar of Events Events
PRIORITY:0
TRANSP:TRANSPARENT
END:VEVENT
END:VCALENDAR