BEGIN:VCALENDAR
VERSION:2.0
METHOD:PUBLISH
CALSCALE:GREGORIAN
PRODID:-//Helios Calendar//EN
X-FROM-URL:https://theblueridgehighlander.com/calendar/index.php?eID=16012
X-WR-RELCALID:Highlander Calendar of Events Hiawassee GA - The NE Georgia Mustang Club's 52nd Annual Mustang Car Show  20250920T090000
X-WR-TIMEZONE:America/New_York
X-WR-CALNAME:Highlander Calendar of Events
BEGIN:VEVENT
URL;VALUE=URI:https://theblueridgehighlander.com/calendar/index.php?eID=16012
DTSTART:20250920T090000
DTEND:20250920T090000
SUMMARY:Hiawassee GA - The NE Georgia Mustang Club's 52nd Annual Mustang Car Show 
DESCRIPTION:52nd Annual Fall Regional Shelby/Mustang and Ford ShowSeptember 19th-20th9am-4pmSpectator admission - $10 per adult- Kids 12 & Under FREE Fall is a perfect time to be in the mountains... For complete event details please visit:  https://theblueridgehighlander.com/calendar/?eID=16012\n______________________________\nEvent Downloaded Powered by Helios Calendar
LOCATION:Georgia Mountain Fairgrounds - 1311 Music Hall Road \, Hiawassee\, GA USA 30546
CATEGORIES:Highlander Calendar of Events Events
PRIORITY:0
TRANSP:TRANSPARENT
END:VEVENT
END:VCALENDAR