BEGIN:VCALENDAR
VERSION:2.0
METHOD:PUBLISH
CALSCALE:GREGORIAN
PRODID:-//Helios Calendar//EN
X-FROM-URL:https://theblueridgehighlander.com/calendar/index.php?eID=16027
X-WR-RELCALID:Highlander Calendar of Events Hiawassee GA - Gospel Day - Southbound, The Martins & High Road 20251012T140000
X-WR-TIMEZONE:America/New_York
X-WR-CALNAME:Highlander Calendar of Events
BEGIN:VEVENT
URL;VALUE=URI:https://theblueridgehighlander.com/calendar/index.php?eID=16027
DTSTART:20251012T140000
DTEND:20251012T140000
SUMMARY:Hiawassee GA - Gospel Day - Southbound\, The Martins & High Road
DESCRIPTION:Gospel Music ShowSouthbound\, The Martins & High RoadSunday\, October 12th - 2pmAdmission: $20 Ticket includes Fall Festival admissionClear Bag policy strictly enforced.Southbound... For complete event details please visit:  https://theblueridgehighlander.com/calendar/?eID=16027\n______________________________\nEvent Downloaded Powered by Helios Calendar
LOCATION:Georgia Mountain Fairgrounds - 1311 Music Hall Road \, Hiawassee\, GA USA 30546
CATEGORIES:Highlander Calendar of Events Events
PRIORITY:0
TRANSP:TRANSPARENT
END:VEVENT
END:VCALENDAR