BEGIN:VCALENDAR
VERSION:2.0
METHOD:PUBLISH
CALSCALE:GREGORIAN
PRODID:-//Helios Calendar//EN
X-FROM-URL:https://theblueridgehighlander.com/calendar/index.php?eID=16029
X-WR-RELCALID:Highlander Calendar of Events Hiawassee GA - Appalachian Brew and Music Festival  20251025T110000
X-WR-TIMEZONE:America/New_York
X-WR-CALNAME:Highlander Calendar of Events
BEGIN:VEVENT
URL;VALUE=URI:https://theblueridgehighlander.com/calendar/index.php?eID=16029
DTSTART:20251025T110000
DTEND:20251025T170000
SUMMARY:Hiawassee GA - Appalachian Brew and Music Festival 
DESCRIPTION:Appalachian Brew and Music FestivalSaturday\, October 2511am-5pm60+ BreweriesUnlimited TastingSouvenir GlassMusic and VendorsEnjoy a Beer Garden - a relaxed area to enjoy the festival! Admission:Early... For complete event details please visit:  https://theblueridgehighlander.com/calendar/?eID=16029\n______________________________\nEvent Downloaded Powered by Helios Calendar
LOCATION:Georgia Mountain Fairgrounds - 1311 Music Hall Road \, Hiawassee\, GA USA 30546
CATEGORIES:Highlander Calendar of Events Events
PRIORITY:0
TRANSP:TRANSPARENT
END:VEVENT
END:VCALENDAR