BEGIN:VCALENDAR
VERSION:2.0
METHOD:PUBLISH
CALSCALE:GREGORIAN
PRODID:-//Helios Calendar//EN
X-FROM-URL:https://theblueridgehighlander.com/calendar/index.php?eID=16031
X-WR-RELCALID:Highlander Calendar of Events Hiawassee GA - Rats, Rods, & Horse Power 20251107T090000
X-WR-TIMEZONE:America/New_York
X-WR-CALNAME:Highlander Calendar of Events
BEGIN:VEVENT
URL;VALUE=URI:https://theblueridgehighlander.com/calendar/index.php?eID=16031
DTSTART:20251107T090000
DTEND:20251107T160000
SUMMARY:Hiawassee GA - Rats\, Rods\, & Horse Power
DESCRIPTION:Rats\, Rust\, & Horse PowerNovember 7th & 8th\, 20249am-4pmGeneral Admission - $10 per dayChildren under 12 are FREE!Hey Gear Heads - You're going to LOVE this show! '79 and earlier vehicles... For complete event details please visit:  https://theblueridgehighlander.com/calendar/?eID=16031\n______________________________\nEvent Downloaded Powered by Helios Calendar
LOCATION:Georgia Mountain Fairgrounds - 1311 Music Hall Road \, Hiawassee\, GA USA 30546
CATEGORIES:Highlander Calendar of Events Events
PRIORITY:0
TRANSP:TRANSPARENT
END:VEVENT
END:VCALENDAR