BEGIN:VCALENDAR
VERSION:2.0
METHOD:PUBLISH
CALSCALE:GREGORIAN
PRODID:-//Helios Calendar//EN
X-FROM-URL:https://theblueridgehighlander.com/calendar/index.php?eID=16898
X-WR-RELCALID:Highlander Calendar of Events Chimney Rock NC - Chimney Rock: Summer Photo Contest - Return to the Rock 20250819T083000
X-WR-TIMEZONE:America/New_York
X-WR-CALNAME:Highlander Calendar of Events
BEGIN:VEVENT
URL;VALUE=URI:https://theblueridgehighlander.com/calendar/index.php?eID=16898
DTSTART:20250819T083000
DTEND:20250819T173000
SUMMARY:Chimney Rock NC - Chimney Rock: Summer Photo Contest - Return to the Rock
DESCRIPTION:Summer Photo Contest is Underway - Return to the Rock!Remember to make a reservation for your visitWe’re back and ready to see the Rock through your lens!After nine months away\, we’re... For complete event details please visit:  https://theblueridgehighlander.com/calendar/?eID=16898\n______________________________\nEvent Downloaded Powered by Helios Calendar
LOCATION:Chimney Rock at Chimney Rock State Park - 174 Chimney Rock Park Road \, Chimney Rock\, NC USA 28720
CATEGORIES:Highlander Calendar of Events Events
PRIORITY:0
TRANSP:TRANSPARENT
END:VEVENT
END:VCALENDAR