BEGIN:VCALENDAR
VERSION:2.0
METHOD:PUBLISH
CALSCALE:GREGORIAN
PRODID:-//Helios Calendar//EN
X-FROM-URL:https://theblueridgehighlander.com/calendar/index.php?eID=16972
X-WR-RELCALID:Highlander Calendar of Events Chimney Rock NC - Fall Homeschool Day 20250924T093000
X-WR-TIMEZONE:America/New_York
X-WR-CALNAME:Highlander Calendar of Events
BEGIN:VEVENT
URL;VALUE=URI:https://theblueridgehighlander.com/calendar/index.php?eID=16972
DTSTART:20250924T093000
DTEND:20250924T150000
SUMMARY:Chimney Rock NC - Fall Homeschool Day
DESCRIPTION:�Fall Homeschool DayThere’s nothing like fall at Chimney Rock. Bring your homeschool students to the park and enjoy a day of learning\, exploration\, and fantastic fall weather. Our hands-on... For complete event details please visit:  https://theblueridgehighlander.com/calendar/?eID=16972\n______________________________\nEvent Downloaded Powered by Helios Calendar
LOCATION:Chimney Rock at Chimney Rock State Park - 174 Chimney Rock Park Road \, Chimney Rock\, NC USA 28720
CATEGORIES:Highlander Calendar of Events Events
PRIORITY:0
TRANSP:TRANSPARENT
END:VEVENT
END:VCALENDAR