BEGIN:VCALENDAR
VERSION:2.0
METHOD:PUBLISH
CALSCALE:GREGORIAN
PRODID:-//Helios Calendar//EN
X-FROM-URL:https://theblueridgehighlander.com/calendar/index.php?eID=16973
X-WR-RELCALID:Highlander Calendar of Events Chimney Rock NC - Nature at Night Hike 20251018T193000
X-WR-TIMEZONE:America/New_York
X-WR-CALNAME:Highlander Calendar of Events
BEGIN:VEVENT
URL;VALUE=URI:https://theblueridgehighlander.com/calendar/index.php?eID=16973
DTSTART:20251018T193000
DTEND:20251018T213000
SUMMARY:Chimney Rock NC - Nature at Night Hike
DESCRIPTION:Nature at Night HikeEver wonder what happens in the park after the sun goes down? Join a guided adventure along the Hickory Nut Falls Trail and discover the hidden world that comes alive after... For complete event details please visit:  https://theblueridgehighlander.com/calendar/?eID=16973\n______________________________\nEvent Downloaded Powered by Helios Calendar
LOCATION:Chimney Rock at Chimney Rock State Park - 174 Chimney Rock Park Road \, Chimney Rock\, NC USA 28720
CATEGORIES:Highlander Calendar of Events Events
PRIORITY:0
TRANSP:TRANSPARENT
END:VEVENT
END:VCALENDAR