BEGIN:VCALENDAR
VERSION:2.0
METHOD:PUBLISH
CALSCALE:GREGORIAN
PRODID:-//Helios Calendar//EN
X-FROM-URL:https://theblueridgehighlander.com/calendar/index.php?eID=16989
X-WR-RELCALID:Highlander Calendar of Events Chimney Rock NC - 28th Annual Santa on the Chimney 20251206T110000
X-WR-TIMEZONE:America/New_York
X-WR-CALNAME:Highlander Calendar of Events
BEGIN:VEVENT
URL;VALUE=URI:https://theblueridgehighlander.com/calendar/index.php?eID=16989
DTSTART:20251206T110000
DTEND:20251206T140000
SUMMARY:Chimney Rock NC - 28th Annual Santa on the Chimney
DESCRIPTION:28th Annual Santa on the ChimneySanta has a big job climbing down all the chimneys in the world on Christmas Eve. But where better to practice than one of the world’s largest natural chimneys?... For complete event details please visit:  https://theblueridgehighlander.com/calendar/?eID=16989\n______________________________\nEvent Downloaded Powered by Helios Calendar
LOCATION:Chimney Rock at Chimney Rock State Park - 174 Chimney Rock Park Road \, Chimney Rock\, NC USA 28720
CATEGORIES:Highlander Calendar of Events Events
PRIORITY:0
TRANSP:TRANSPARENT
END:VEVENT
END:VCALENDAR