BEGIN:VCALENDAR
VERSION:2.0
METHOD:PUBLISH
CALSCALE:GREGORIAN
PRODID:-//Helios Calendar//EN
X-FROM-URL:https://theblueridgehighlander.com/calendar/index.php?eID=17079
X-WR-RELCALID:Highlander Calendar of Events Brasstown, NC - Highlander Gallery is on the 2026 Northeast Georgia Arts Tour 20260613T100000
X-WR-TIMEZONE:America/New_York
X-WR-CALNAME:Highlander Calendar of Events
BEGIN:VEVENT
URL;VALUE=URI:https://theblueridgehighlander.com/calendar/index.php?eID=17079
DTSTART:20260613T100000
DTEND:20260613T170000
SUMMARY:Brasstown\, NC - Highlander Gallery is on the 2026 Northeast Georgia Arts Tour
DESCRIPTION:Highlander Gallery is on the 2026 Northeast Georgia Arts Tourjust over the NC BorderDiscover original works of art made by regional artists in our charming shops\, galleries\, and studios.Explore... For complete event details please visit:  https://theblueridgehighlander.com/calendar/?eID=17079\n______________________________\nEvent Downloaded Powered by Helios Calendar
LOCATION:Highlander Gallery Brasstown North Carolina - 10079 Old Hwy 64 \, Brasstown\, NC US 28906
CATEGORIES:Highlander Calendar of Events Events
PRIORITY:0
TRANSP:TRANSPARENT
END:VEVENT
END:VCALENDAR