BEGIN:VCALENDAR
VERSION:2.0
METHOD:PUBLISH
CALSCALE:GREGORIAN
PRODID:-//Helios Calendar//EN
X-FROM-URL:https://theblueridgehighlander.com/calendar/index.php?eID=17217
X-WR-RELCALID:Highlander Calendar of Events Hiawassee GA - Acoustic Sunsets Spring Series 20260507T170000
X-WR-TIMEZONE:America/New_York
X-WR-CALNAME:Highlander Calendar of Events
BEGIN:VEVENT
URL;VALUE=URI:https://theblueridgehighlander.com/calendar/index.php?eID=17217
DTSTART:20260507T170000
DTEND:20260507T170000
SUMMARY:Hiawassee GA - Acoustic Sunsets Spring Series
DESCRIPTION:Acoustic Sunsets at Hamilton Gardens - A Thursday Night Concert SeriesThursday evenings from May 8 - May 29May 7th | May 14th | May 21st | May 28th | June 4thFood Court & Wine Bar open... For complete event details please visit:  https://theblueridgehighlander.com/calendar/?eID=17217\n______________________________\nEvent Downloaded Powered by Helios Calendar
LOCATION:Georgia Mountain Fairgrounds - 1311 Music Hall Road \, Hiawassee\, GA USA 30546
CATEGORIES:Highlander Calendar of Events Events
PRIORITY:0
TRANSP:TRANSPARENT
END:VEVENT
END:VCALENDAR