BEGIN:VCALENDAR
VERSION:2.0
METHOD:PUBLISH
CALSCALE:GREGORIAN
PRODID:-//Helios Calendar//EN
X-FROM-URL:https://theblueridgehighlander.com/calendar/index.php?eID=17229
X-WR-RELCALID:Highlander Calendar of Events Hiawassee GA - Greater Atlanta British Motorcycle Association 20260613T100000
X-WR-TIMEZONE:America/New_York
X-WR-CALNAME:Highlander Calendar of Events
BEGIN:VEVENT
URL;VALUE=URI:https://theblueridgehighlander.com/calendar/index.php?eID=17229
DTSTART:20260613T100000
DTEND:20260613T220000
SUMMARY:Hiawassee GA - Greater Atlanta British Motorcycle Association
DESCRIPTION:Greater Atlanta British Motorcycle AssociationFriday & Saturday June 12th & 13th\, 2025Come to our annual summer British in the Blue Ridge (“BIBR”) Rally at the Georgia Mountain... For complete event details please visit:  https://theblueridgehighlander.com/calendar/?eID=17229\n______________________________\nEvent Downloaded Powered by Helios Calendar
LOCATION:Georgia Mountain Fairgrounds - 1311 Music Hall Road \, Hiawassee\, GA USA 30546
CATEGORIES:Highlander Calendar of Events Events
PRIORITY:0
TRANSP:TRANSPARENT
END:VEVENT
END:VCALENDAR