BEGIN:VCALENDAR
VERSION:2.0
METHOD:PUBLISH
CALSCALE:GREGORIAN
PRODID:-//Helios Calendar//EN
X-FROM-URL:https://theblueridgehighlander.com/calendar/index.php?eID=17414
X-WR-RELCALID:Highlander Calendar of Events Hiawassee GA - Bellamy Brothers & Exile in Concert 20261009T190000
X-WR-TIMEZONE:America/New_York
X-WR-CALNAME:Highlander Calendar of Events
BEGIN:VEVENT
URL;VALUE=URI:https://theblueridgehighlander.com/calendar/index.php?eID=17414
DTSTART:20261009T190000
DTEND:20261009T190000
SUMMARY:Hiawassee GA - Bellamy Brothers & Exile in Concert
DESCRIPTION:Bellamy Brothers & Exile in ConcertSunday\, October 9th - 7pmAdmission: $30 + handlingTicket includes Fall Festival admissionClear Bag policy strictly enforced.Howard and... For complete event details please visit:  https://theblueridgehighlander.com/calendar/?eID=17414\n______________________________\nEvent Downloaded Powered by Helios Calendar
LOCATION:Georgia Mountain Fairgrounds - 1311 Music Hall Road \, Hiawassee\, GA USA 30546
CATEGORIES:Highlander Calendar of Events Events
PRIORITY:0
TRANSP:TRANSPARENT
END:VEVENT
END:VCALENDAR