BEGIN:VCALENDAR
VERSION:2.0
METHOD:PUBLISH
CALSCALE:GREGORIAN
PRODID:-//Helios Calendar//EN
X-FROM-URL:https://theblueridgehighlander.com/calendar/index.php?eID=17457
X-WR-RELCALID:Highlander Calendar of Events Hiawassee, GA - 4th Annual Trent Whidden Memorial Car Show 20261017T100000
X-WR-TIMEZONE:America/New_York
X-WR-CALNAME:Highlander Calendar of Events
BEGIN:VEVENT
URL;VALUE=URI:https://theblueridgehighlander.com/calendar/index.php?eID=17457
DTSTART:20261017T100000
DTEND:20261017T140000
SUMMARY:Hiawassee\, GA - 4th Annual Trent Whidden Memorial Car Show
DESCRIPTION:4th Annual Trent Whidden Memorial Car ShowSaturday\, October 17th10am-2pmFREE Admission!Come out and enjoy all the beautiful cars in the parking lot near Hamilton Gardens!  For complete event details please visit:  https://theblueridgehighlander.com/calendar/?eID=17457\n______________________________\nEvent Downloaded Powered by Helios Calendar
LOCATION:Georgia Mountain Fairgrounds - 1311 Music Hall Road \, Hiawassee\, GA USA 30546
CATEGORIES:Highlander Calendar of Events Events
PRIORITY:0
TRANSP:TRANSPARENT
END:VEVENT
END:VCALENDAR