BEGIN:VCALENDAR
VERSION:2.0
METHOD:PUBLISH
CALSCALE:GREGORIAN
PRODID:-//Helios Calendar//EN
X-FROM-URL:https://theblueridgehighlander.com/calendar/index.php?eID=17460
X-WR-RELCALID:Highlander Calendar of Events Hiawassee, GA - Vince Gill 20260815T193000
X-WR-TIMEZONE:America/New_York
X-WR-CALNAME:Highlander Calendar of Events
BEGIN:VEVENT
URL;VALUE=URI:https://theblueridgehighlander.com/calendar/index.php?eID=17460
DTSTART:20260815T193000
DTEND:20260815T193000
SUMMARY:Hiawassee\, GA - Vince Gill
DESCRIPTION:Vince GillSaturday\, August 15\, 20267:30pmTickets: $79 + handlingVince Gill - A Lifetime of Music\, One Story at a Time.It's been 50 years since Vince Gill chose a path toward music and left... For complete event details please visit:  https://theblueridgehighlander.com/calendar/?eID=17460\n______________________________\nEvent Downloaded Powered by Helios Calendar
LOCATION:Georgia Mountain Fairgrounds - 1311 Music Hall Road \, Hiawassee\, GA USA 30546
CATEGORIES:Highlander Calendar of Events Events
PRIORITY:0
TRANSP:TRANSPARENT
END:VEVENT
END:VCALENDAR