BEGIN:VCALENDAR
VERSION:2.0
METHOD:PUBLISH
CALSCALE:GREGORIAN
PRODID:-//Helios Calendar//EN
X-FROM-URL:https://theblueridgehighlander.com/calendar/index.php?eID=17720
X-WR-RELCALID:Highlander Calendar of Events Chimney Rock NC - Nature at Night Hike 20260620T193000
X-WR-TIMEZONE:America/New_York
X-WR-CALNAME:Highlander Calendar of Events
BEGIN:VEVENT
URL;VALUE=URI:https://theblueridgehighlander.com/calendar/index.php?eID=17720
DTSTART:20260620T193000
DTEND:20260620T213000
SUMMARY:Chimney Rock NC - Nature at Night Hike
DESCRIPTION: Nature at Night HikeDo you ever wonder what goes on in the Park after dark? Join a naturalist on the Hickory Nut Falls Trail and learn who comes out when the sun goes down. This unique... For complete event details please visit:  https://theblueridgehighlander.com/calendar/?eID=17720\n______________________________\nEvent Downloaded Powered by Helios Calendar
LOCATION:Chimney Rock at Chimney Rock State Park - 174 Chimney Rock Park Road \, Chimney Rock\, NC USA 28720
CATEGORIES:Highlander Calendar of Events Events
PRIORITY:0
TRANSP:TRANSPARENT
END:VEVENT
END:VCALENDAR