BEGIN:VCALENDAR
VERSION:2.0
METHOD:PUBLISH
CALSCALE:GREGORIAN
PRODID:-//Helios Calendar//EN
X-FROM-URL:https://theblueridgehighlander.com/calendar/index.php?eID=17721
X-WR-RELCALID:Highlander Calendar of Events Chimney Rock NC - National Get Outdoors Day 20260613T100000
X-WR-TIMEZONE:America/New_York
X-WR-CALNAME:Highlander Calendar of Events
BEGIN:VEVENT
URL;VALUE=URI:https://theblueridgehighlander.com/calendar/index.php?eID=17721
DTSTART:20260613T100000
DTEND:20260613T150000
SUMMARY:Chimney Rock NC - National Get Outdoors Day
DESCRIPTION:Naturalist Niche: Geology of the GorgeThis national holiday celebrates our favorite thing to do… get outdoors! Look for our discovery stations as you hike and learn some cool trail information... For complete event details please visit:  https://theblueridgehighlander.com/calendar/?eID=17721\n______________________________\nEvent Downloaded Powered by Helios Calendar
LOCATION:Chimney Rock at Chimney Rock State Park - 174 Chimney Rock Park Road \, Chimney Rock\, NC USA 28720
CATEGORIES:Highlander Calendar of Events Events
PRIORITY:0
TRANSP:TRANSPARENT
END:VEVENT
END:VCALENDAR