BEGIN:VCALENDAR
VERSION:2.0
METHOD:PUBLISH
CALSCALE:GREGORIAN
PRODID:-//Helios Calendar//EN
X-FROM-URL:https://theblueridgehighlander.com/calendar/index.php?eID=13172
X-WR-RELCALID:Highlander Calendar of Events Chimney Rock NC - Winter Trails Photo Contest 20230210T083000
X-WR-TIMEZONE:America/New_York
X-WR-CALNAME:Highlander Calendar of Events
BEGIN:VEVENT
URL;VALUE=URI:https://theblueridgehighlander.com/calendar/index.php?eID=13172
DTSTART:20230210T083000
DTEND:20230210T163000
SUMMARY:Chimney Rock NC - Winter Trails Photo Contest
DESCRIPTION:"Winter Trails" Photo ContestJanuary 1 – February 28th2023 is NC State Parks' Year of the Trail\, and we'll be celebrating with our photo contests all year long. This winter\, take some pictures as... For complete event details please visit:  https://theblueridgehighlander.com/calendar/?eID=13172\n______________________________\nEvent Downloaded Powered by Helios Calendar
LOCATION:Chimney Rock at Chimney Rock State Park - 174 Chimney Rock Park Road \, Chimney Rock\, NC USA 28720
CATEGORIES:Highlander Calendar of Events Events
PRIORITY:0
TRANSP:TRANSPARENT
END:VEVENT
END:VCALENDAR