BEGIN:VCALENDAR
VERSION:2.0
METHOD:PUBLISH
CALSCALE:GREGORIAN
PRODID:-//Helios Calendar//EN
X-FROM-URL:https://theblueridgehighlander.com/calendar/index.php?eID=13193
X-WR-RELCALID:Highlander Calendar of Events Chimney Rock NC - Mindfulness Hike 20230128T080000
X-WR-TIMEZONE:America/New_York
X-WR-CALNAME:Highlander Calendar of Events
BEGIN:VEVENT
URL;VALUE=URI:https://theblueridgehighlander.com/calendar/index.php?eID=13193
DTSTART:20230128T080000
DTEND:20230128T100000
SUMMARY:Chimney Rock NC - Mindfulness Hike
DESCRIPTION:Mindfulness HikeBring self-care to the new year on this reflective meditation walk with Namaste in Nature. This peaceful hike is focused on reconnecting with yourself and the natural world even during... For complete event details please visit:  https://theblueridgehighlander.com/calendar/?eID=13193\n______________________________\nEvent Downloaded Powered by Helios Calendar
LOCATION:Chimney Rock at Chimney Rock State Park - 174 Chimney Rock Park Road \, Chimney Rock\, NC USA 28720
CATEGORIES:Highlander Calendar of Events Events
PRIORITY:0
TRANSP:TRANSPARENT
END:VEVENT
END:VCALENDAR