BEGIN:VCALENDAR
VERSION:2.0
METHOD:PUBLISH
CALSCALE:GREGORIAN
PRODID:-//Helios Calendar//EN
X-FROM-URL:https://theblueridgehighlander.com/calendar/index.php?eID=13210
X-WR-RELCALID:Highlander Calendar of Events Chimney Rock NC - Spring Break Family Animal Encounters 20230408T140000
X-WR-TIMEZONE:America/New_York
X-WR-CALNAME:Highlander Calendar of Events
BEGIN:VEVENT
URL;VALUE=URI:https://theblueridgehighlander.com/calendar/index.php?eID=13210
DTSTART:20230408T140000
DTEND:20230408T140000
SUMMARY:Chimney Rock NC - Spring Break Family Animal Encounters
DESCRIPTION: Spring Break Family Animal EncountersDo you know our staff has a wild side? Join a Park naturalist to meet some of our live Animal Ambassadors and learn about the types of wildlife in the area and... For complete event details please visit:  https://theblueridgehighlander.com/calendar/?eID=13210\n______________________________\nEvent Downloaded Powered by Helios Calendar
LOCATION:Chimney Rock at Chimney Rock State Park - 174 Chimney Rock Park Road \, Chimney Rock\, NC USA 28720
CATEGORIES:Highlander Calendar of Events Events
PRIORITY:0
TRANSP:TRANSPARENT
END:VEVENT
END:VCALENDAR